BEGIN:VCALENDAR
VERSION:2.0
PRODID:-//New Brunswick English SDA Church - ECPv6.15.20//NONSGML v1.0//EN
CALSCALE:GREGORIAN
METHOD:PUBLISH
X-WR-CALNAME:New Brunswick English SDA Church
X-ORIGINAL-URL:https://nbsdac.com
X-WR-CALDESC:Events for New Brunswick English SDA Church
REFRESH-INTERVAL;VALUE=DURATION:PT1H
X-Robots-Tag:noindex
X-PUBLISHED-TTL:PT1H
BEGIN:VTIMEZONE
TZID:America/New_York
BEGIN:DAYLIGHT
TZOFFSETFROM:-0500
TZOFFSETTO:-0400
TZNAME:EDT
DTSTART:20190310T070000
END:DAYLIGHT
BEGIN:STANDARD
TZOFFSETFROM:-0400
TZOFFSETTO:-0500
TZNAME:EST
DTSTART:20191103T060000
END:STANDARD
BEGIN:DAYLIGHT
TZOFFSETFROM:-0500
TZOFFSETTO:-0400
TZNAME:EDT
DTSTART:20200308T070000
END:DAYLIGHT
BEGIN:STANDARD
TZOFFSETFROM:-0400
TZOFFSETTO:-0500
TZNAME:EST
DTSTART:20201101T060000
END:STANDARD
BEGIN:DAYLIGHT
TZOFFSETFROM:-0500
TZOFFSETTO:-0400
TZNAME:EDT
DTSTART:20210314T070000
END:DAYLIGHT
BEGIN:STANDARD
TZOFFSETFROM:-0400
TZOFFSETTO:-0500
TZNAME:EST
DTSTART:20211107T060000
END:STANDARD
BEGIN:DAYLIGHT
TZOFFSETFROM:-0500
TZOFFSETTO:-0400
TZNAME:EDT
DTSTART:20220313T070000
END:DAYLIGHT
BEGIN:STANDARD
TZOFFSETFROM:-0400
TZOFFSETTO:-0500
TZNAME:EST
DTSTART:20221106T060000
END:STANDARD
END:VTIMEZONE
BEGIN:VEVENT
DTSTART;TZID=America/New_York:20210116T190000
DTEND;TZID=America/New_York:20210116T200000
DTSTAMP:20260423T173558
CREATED:20210103T205051Z
LAST-MODIFIED:20210103T205051Z
UID:5352-1610823600-1610827200@nbsdac.com
SUMMARY:10 Days of Prayer (Virtual)
DESCRIPTION:Welcome to Ten Days of Prayer 2021! Our Prayer Theme: Seeking Revival \nWe believe prayer is the birthplace of revival. God has worked so many miracles in past years as we have sought Him together in prayer and fasting. \nThis year we invite you to seek revival through the power of the Holy Spirit during Ten Days of Prayer. As you pray\, claim God’s promise to Zerubbabel as your own: “‘Not by might nor by power\, but by My Spirit\,’ says the Lord of hosts” (Zechariah 4:6). In other words\, “‘What you are planning will neither succeed by the might of an army nor by human strength; rather\, My Spirit will accomplish it!’ I\, the Lord God Almighty\, have promised.”
URL:https://nbsdac.com/event/10-days-of-prayer-virtual-2021-01-16/
ATTACH;FMTTYPE=image/jpeg:https://nbsdac.com/wp-content/uploads/2021/01/10-days.jpg
END:VEVENT
BEGIN:VEVENT
DTSTART;TZID=America/New_York:20210115T190000
DTEND;TZID=America/New_York:20210115T200000
DTSTAMP:20260423T173558
CREATED:20210103T205051Z
LAST-MODIFIED:20210103T205051Z
UID:5351-1610737200-1610740800@nbsdac.com
SUMMARY:10 Days of Prayer (Virtual)
DESCRIPTION:Welcome to Ten Days of Prayer 2021! Our Prayer Theme: Seeking Revival \nWe believe prayer is the birthplace of revival. God has worked so many miracles in past years as we have sought Him together in prayer and fasting. \nThis year we invite you to seek revival through the power of the Holy Spirit during Ten Days of Prayer. As you pray\, claim God’s promise to Zerubbabel as your own: “‘Not by might nor by power\, but by My Spirit\,’ says the Lord of hosts” (Zechariah 4:6). In other words\, “‘What you are planning will neither succeed by the might of an army nor by human strength; rather\, My Spirit will accomplish it!’ I\, the Lord God Almighty\, have promised.”
URL:https://nbsdac.com/event/10-days-of-prayer-virtual-2021-01-15/
ATTACH;FMTTYPE=image/jpeg:https://nbsdac.com/wp-content/uploads/2021/01/10-days.jpg
END:VEVENT
BEGIN:VEVENT
DTSTART;TZID=America/New_York:20210114T190000
DTEND;TZID=America/New_York:20210114T200000
DTSTAMP:20260423T173558
CREATED:20210103T205051Z
LAST-MODIFIED:20210103T205051Z
UID:5350-1610650800-1610654400@nbsdac.com
SUMMARY:10 Days of Prayer (Virtual)
DESCRIPTION:Welcome to Ten Days of Prayer 2021! Our Prayer Theme: Seeking Revival \nWe believe prayer is the birthplace of revival. God has worked so many miracles in past years as we have sought Him together in prayer and fasting. \nThis year we invite you to seek revival through the power of the Holy Spirit during Ten Days of Prayer. As you pray\, claim God’s promise to Zerubbabel as your own: “‘Not by might nor by power\, but by My Spirit\,’ says the Lord of hosts” (Zechariah 4:6). In other words\, “‘What you are planning will neither succeed by the might of an army nor by human strength; rather\, My Spirit will accomplish it!’ I\, the Lord God Almighty\, have promised.”
URL:https://nbsdac.com/event/10-days-of-prayer-virtual-2021-01-14/
ATTACH;FMTTYPE=image/jpeg:https://nbsdac.com/wp-content/uploads/2021/01/10-days.jpg
END:VEVENT
BEGIN:VEVENT
DTSTART;TZID=America/New_York:20210113T190000
DTEND;TZID=America/New_York:20210113T200000
DTSTAMP:20260423T173558
CREATED:20210103T205051Z
LAST-MODIFIED:20210103T205051Z
UID:5349-1610564400-1610568000@nbsdac.com
SUMMARY:10 Days of Prayer (Virtual)
DESCRIPTION:Welcome to Ten Days of Prayer 2021! Our Prayer Theme: Seeking Revival \nWe believe prayer is the birthplace of revival. God has worked so many miracles in past years as we have sought Him together in prayer and fasting. \nThis year we invite you to seek revival through the power of the Holy Spirit during Ten Days of Prayer. As you pray\, claim God’s promise to Zerubbabel as your own: “‘Not by might nor by power\, but by My Spirit\,’ says the Lord of hosts” (Zechariah 4:6). In other words\, “‘What you are planning will neither succeed by the might of an army nor by human strength; rather\, My Spirit will accomplish it!’ I\, the Lord God Almighty\, have promised.”
URL:https://nbsdac.com/event/10-days-of-prayer-virtual-2021-01-13/
ATTACH;FMTTYPE=image/jpeg:https://nbsdac.com/wp-content/uploads/2021/01/10-days.jpg
END:VEVENT
BEGIN:VEVENT
DTSTART;TZID=America/New_York:20210112T190000
DTEND;TZID=America/New_York:20210112T200000
DTSTAMP:20260423T173558
CREATED:20210103T205051Z
LAST-MODIFIED:20210103T205051Z
UID:5348-1610478000-1610481600@nbsdac.com
SUMMARY:10 Days of Prayer (Virtual)
DESCRIPTION:Welcome to Ten Days of Prayer 2021! Our Prayer Theme: Seeking Revival \nWe believe prayer is the birthplace of revival. God has worked so many miracles in past years as we have sought Him together in prayer and fasting. \nThis year we invite you to seek revival through the power of the Holy Spirit during Ten Days of Prayer. As you pray\, claim God’s promise to Zerubbabel as your own: “‘Not by might nor by power\, but by My Spirit\,’ says the Lord of hosts” (Zechariah 4:6). In other words\, “‘What you are planning will neither succeed by the might of an army nor by human strength; rather\, My Spirit will accomplish it!’ I\, the Lord God Almighty\, have promised.”
URL:https://nbsdac.com/event/10-days-of-prayer-virtual-2021-01-12/
ATTACH;FMTTYPE=image/jpeg:https://nbsdac.com/wp-content/uploads/2021/01/10-days.jpg
END:VEVENT
BEGIN:VEVENT
DTSTART;TZID=America/New_York:20210111T190000
DTEND;TZID=America/New_York:20210111T200000
DTSTAMP:20260423T173558
CREATED:20210103T205051Z
LAST-MODIFIED:20210103T205051Z
UID:5347-1610391600-1610395200@nbsdac.com
SUMMARY:10 Days of Prayer (Virtual)
DESCRIPTION:Welcome to Ten Days of Prayer 2021! Our Prayer Theme: Seeking Revival \nWe believe prayer is the birthplace of revival. God has worked so many miracles in past years as we have sought Him together in prayer and fasting. \nThis year we invite you to seek revival through the power of the Holy Spirit during Ten Days of Prayer. As you pray\, claim God’s promise to Zerubbabel as your own: “‘Not by might nor by power\, but by My Spirit\,’ says the Lord of hosts” (Zechariah 4:6). In other words\, “‘What you are planning will neither succeed by the might of an army nor by human strength; rather\, My Spirit will accomplish it!’ I\, the Lord God Almighty\, have promised.”
URL:https://nbsdac.com/event/10-days-of-prayer-virtual-2021-01-11/
ATTACH;FMTTYPE=image/jpeg:https://nbsdac.com/wp-content/uploads/2021/01/10-days.jpg
END:VEVENT
BEGIN:VEVENT
DTSTART;TZID=America/New_York:20210110T190000
DTEND;TZID=America/New_York:20210110T200000
DTSTAMP:20260423T173558
CREATED:20210103T205051Z
LAST-MODIFIED:20210103T205051Z
UID:5346-1610305200-1610308800@nbsdac.com
SUMMARY:10 Days of Prayer (Virtual)
DESCRIPTION:Welcome to Ten Days of Prayer 2021! Our Prayer Theme: Seeking Revival \nWe believe prayer is the birthplace of revival. God has worked so many miracles in past years as we have sought Him together in prayer and fasting. \nThis year we invite you to seek revival through the power of the Holy Spirit during Ten Days of Prayer. As you pray\, claim God’s promise to Zerubbabel as your own: “‘Not by might nor by power\, but by My Spirit\,’ says the Lord of hosts” (Zechariah 4:6). In other words\, “‘What you are planning will neither succeed by the might of an army nor by human strength; rather\, My Spirit will accomplish it!’ I\, the Lord God Almighty\, have promised.”
URL:https://nbsdac.com/event/10-days-of-prayer-virtual-2021-01-10/
ATTACH;FMTTYPE=image/jpeg:https://nbsdac.com/wp-content/uploads/2021/01/10-days.jpg
END:VEVENT
BEGIN:VEVENT
DTSTART;TZID=America/New_York:20210109T190000
DTEND;TZID=America/New_York:20210109T200000
DTSTAMP:20260423T173558
CREATED:20210103T205051Z
LAST-MODIFIED:20210103T205051Z
UID:5345-1610218800-1610222400@nbsdac.com
SUMMARY:10 Days of Prayer (Virtual)
DESCRIPTION:Welcome to Ten Days of Prayer 2021! Our Prayer Theme: Seeking Revival \nWe believe prayer is the birthplace of revival. God has worked so many miracles in past years as we have sought Him together in prayer and fasting. \nThis year we invite you to seek revival through the power of the Holy Spirit during Ten Days of Prayer. As you pray\, claim God’s promise to Zerubbabel as your own: “‘Not by might nor by power\, but by My Spirit\,’ says the Lord of hosts” (Zechariah 4:6). In other words\, “‘What you are planning will neither succeed by the might of an army nor by human strength; rather\, My Spirit will accomplish it!’ I\, the Lord God Almighty\, have promised.”
URL:https://nbsdac.com/event/10-days-of-prayer-virtual-2021-01-09/
ATTACH;FMTTYPE=image/jpeg:https://nbsdac.com/wp-content/uploads/2021/01/10-days.jpg
END:VEVENT
BEGIN:VEVENT
DTSTART;TZID=America/New_York:20210108T190000
DTEND;TZID=America/New_York:20210108T200000
DTSTAMP:20260423T173558
CREATED:20210103T205051Z
LAST-MODIFIED:20210103T205051Z
UID:5344-1610132400-1610136000@nbsdac.com
SUMMARY:10 Days of Prayer (Virtual)
DESCRIPTION:Welcome to Ten Days of Prayer 2021! Our Prayer Theme: Seeking Revival \nWe believe prayer is the birthplace of revival. God has worked so many miracles in past years as we have sought Him together in prayer and fasting. \nThis year we invite you to seek revival through the power of the Holy Spirit during Ten Days of Prayer. As you pray\, claim God’s promise to Zerubbabel as your own: “‘Not by might nor by power\, but by My Spirit\,’ says the Lord of hosts” (Zechariah 4:6). In other words\, “‘What you are planning will neither succeed by the might of an army nor by human strength; rather\, My Spirit will accomplish it!’ I\, the Lord God Almighty\, have promised.”
URL:https://nbsdac.com/event/10-days-of-prayer-virtual-2021-01-08/
ATTACH;FMTTYPE=image/jpeg:https://nbsdac.com/wp-content/uploads/2021/01/10-days.jpg
END:VEVENT
BEGIN:VEVENT
DTSTART;TZID=America/New_York:20210107T190000
DTEND;TZID=America/New_York:20210107T200000
DTSTAMP:20260423T173558
CREATED:20210103T205051Z
LAST-MODIFIED:20210103T205051Z
UID:5343-1610046000-1610049600@nbsdac.com
SUMMARY:10 Days of Prayer (Virtual)
DESCRIPTION:Welcome to Ten Days of Prayer 2021! Our Prayer Theme: Seeking Revival \nWe believe prayer is the birthplace of revival. God has worked so many miracles in past years as we have sought Him together in prayer and fasting. \nThis year we invite you to seek revival through the power of the Holy Spirit during Ten Days of Prayer. As you pray\, claim God’s promise to Zerubbabel as your own: “‘Not by might nor by power\, but by My Spirit\,’ says the Lord of hosts” (Zechariah 4:6). In other words\, “‘What you are planning will neither succeed by the might of an army nor by human strength; rather\, My Spirit will accomplish it!’ I\, the Lord God Almighty\, have promised.”
URL:https://nbsdac.com/event/10-days-of-prayer-virtual-2021-01-07/
ATTACH;FMTTYPE=image/jpeg:https://nbsdac.com/wp-content/uploads/2021/01/10-days.jpg
END:VEVENT
BEGIN:VEVENT
DTSTART;TZID=America/New_York:20210106T190000
DTEND;TZID=America/New_York:20210106T200000
DTSTAMP:20260423T173558
CREATED:20210103T205051Z
LAST-MODIFIED:20210103T205052Z
UID:5341-1609959600-1609963200@nbsdac.com
SUMMARY:10 Days of Prayer (Virtual)
DESCRIPTION:Welcome to Ten Days of Prayer 2021! Our Prayer Theme: Seeking Revival \nWe believe prayer is the birthplace of revival. God has worked so many miracles in past years as we have sought Him together in prayer and fasting. \nThis year we invite you to seek revival through the power of the Holy Spirit during Ten Days of Prayer. As you pray\, claim God’s promise to Zerubbabel as your own: “‘Not by might nor by power\, but by My Spirit\,’ says the Lord of hosts” (Zechariah 4:6). In other words\, “‘What you are planning will neither succeed by the might of an army nor by human strength; rather\, My Spirit will accomplish it!’ I\, the Lord God Almighty\, have promised.”
URL:https://nbsdac.com/event/10-days-of-prayer-virtual/
ATTACH;FMTTYPE=image/jpeg:https://nbsdac.com/wp-content/uploads/2021/01/10-days.jpg
END:VEVENT
BEGIN:VEVENT
DTSTART;TZID=America/New_York:20201121T180000
DTEND;TZID=America/New_York:20201122T000000
DTSTAMP:20260423T173558
CREATED:20201120T221831Z
LAST-MODIFIED:20201120T221832Z
UID:5303-1605981600-1606003200@nbsdac.com
SUMMARY:HALF-NIGHT PRAYER VIGIL
DESCRIPTION:Prayer Ministry invites you to join us for the New Brunswick SDA Church\n \nThere will be songs\, prayer\, testimony\, fellowship\, and MORE prayer. You may join us in the hour that works for you for a refreshing and prayer in this our time of need. Theme of focus: The Sanctuary and Coping through a Crisis. \n \n6 pm-7 pm– Hope in Crisis of Loss (Job/Finances) \n7 pm-8 pm– Hope in Crisis of Fear \n8 pm-9 pm– Hope in Crisis of Sickness \n9 pm-10 pm– Hope in Crisis of Suffering (Depression and Loneliness) \n10 pm-11 pm– Hope in Crisis of Grief \n11 pm-12 midnight– Hope in Crisis of Spiritual Darkness/Sin \n  \n***Please send in your prayer requests between now and Sabbath November 21st  via prayerrequest@nbsdac.com \n \nZoom ID: 868 0964 0652 \nPassword: 529035
URL:https://nbsdac.com/event/prayer-vigil/
CATEGORIES:Prayer Ministries
ATTACH;FMTTYPE=image/jpeg:https://nbsdac.com/wp-content/uploads/2020/08/patrick-fore-b_SHPU5M3nk-unsplash-scaled.jpg
ORGANIZER;CN="New Brunswick English SDA Church":MAILTO:info@nbsdac.com
END:VEVENT
BEGIN:VEVENT
DTSTART;TZID=America/New_York:20201023T193000
DTEND;TZID=America/New_York:20201023T210000
DTSTAMP:20260423T173558
CREATED:20201017T180129Z
LAST-MODIFIED:20201017T180129Z
UID:5291-1603481400-1603486800@nbsdac.com
SUMMARY:Love Trumps Fear: A Webinar on How to Survive 2020
DESCRIPTION:Love Trumps Fear: A Webinar on How to Survive 2020\nIn a world that seems to be falling apart\, many of us are filled with fear as our health (mental and physical)\, finances\, relationships\, and peace of mind are being threatened. \nThe question in the midst of all of this is: Where do we go? Who do we look to for hope? With one fell swoop we have seen COVID-19 dismantle our governments\, our healthcare systems and the world as a whole. \nThose we thought were in control\, were in fact never in control at all… If we can’t trust man\, who can we trust? In this series\, we will seek to understand what exactly is happening in our world today\, and who we need to look to in order to make it through. \n 
URL:https://nbsdac.com/event/5284-2020-10-23/
ATTACH;FMTTYPE=image/png:https://nbsdac.com/wp-content/uploads/2020/10/LOVE-TRUMPS-FEAR-6.png
ORGANIZER;CN="New Brunswick English SDA Church":MAILTO:info@nbsdac.com
END:VEVENT
BEGIN:VEVENT
DTSTART;TZID=America/New_York:20201022T193000
DTEND;TZID=America/New_York:20201022T210000
DTSTAMP:20260423T173558
CREATED:20201017T180128Z
LAST-MODIFIED:20201017T180128Z
UID:5290-1603395000-1603400400@nbsdac.com
SUMMARY:Love Trumps Fear: A Webinar on How to Survive 2020
DESCRIPTION:Love Trumps Fear: A Webinar on How to Survive 2020\nIn a world that seems to be falling apart\, many of us are filled with fear as our health (mental and physical)\, finances\, relationships\, and peace of mind are being threatened. \nThe question in the midst of all of this is: Where do we go? Who do we look to for hope? With one fell swoop we have seen COVID-19 dismantle our governments\, our healthcare systems and the world as a whole. \nThose we thought were in control\, were in fact never in control at all… If we can’t trust man\, who can we trust? In this series\, we will seek to understand what exactly is happening in our world today\, and who we need to look to in order to make it through. \n 
URL:https://nbsdac.com/event/5284-2020-10-22/
ATTACH;FMTTYPE=image/png:https://nbsdac.com/wp-content/uploads/2020/10/LOVE-TRUMPS-FEAR-6.png
ORGANIZER;CN="New Brunswick English SDA Church":MAILTO:info@nbsdac.com
END:VEVENT
BEGIN:VEVENT
DTSTART;TZID=America/New_York:20201021T193000
DTEND;TZID=America/New_York:20201021T210000
DTSTAMP:20260423T173558
CREATED:20201017T180128Z
LAST-MODIFIED:20201017T180128Z
UID:5289-1603308600-1603314000@nbsdac.com
SUMMARY:Love Trumps Fear: A Webinar on How to Survive 2020
DESCRIPTION:Love Trumps Fear: A Webinar on How to Survive 2020\nIn a world that seems to be falling apart\, many of us are filled with fear as our health (mental and physical)\, finances\, relationships\, and peace of mind are being threatened. \nThe question in the midst of all of this is: Where do we go? Who do we look to for hope? With one fell swoop we have seen COVID-19 dismantle our governments\, our healthcare systems and the world as a whole. \nThose we thought were in control\, were in fact never in control at all… If we can’t trust man\, who can we trust? In this series\, we will seek to understand what exactly is happening in our world today\, and who we need to look to in order to make it through. \n 
URL:https://nbsdac.com/event/5284-2020-10-21/
ATTACH;FMTTYPE=image/png:https://nbsdac.com/wp-content/uploads/2020/10/LOVE-TRUMPS-FEAR-6.png
ORGANIZER;CN="New Brunswick English SDA Church":MAILTO:info@nbsdac.com
END:VEVENT
BEGIN:VEVENT
DTSTART;TZID=America/New_York:20201020T193000
DTEND;TZID=America/New_York:20201020T210000
DTSTAMP:20260423T173558
CREATED:20201017T180127Z
LAST-MODIFIED:20201017T180127Z
UID:5288-1603222200-1603227600@nbsdac.com
SUMMARY:Love Trumps Fear: A Webinar on How to Survive 2020
DESCRIPTION:Love Trumps Fear: A Webinar on How to Survive 2020\nIn a world that seems to be falling apart\, many of us are filled with fear as our health (mental and physical)\, finances\, relationships\, and peace of mind are being threatened. \nThe question in the midst of all of this is: Where do we go? Who do we look to for hope? With one fell swoop we have seen COVID-19 dismantle our governments\, our healthcare systems and the world as a whole. \nThose we thought were in control\, were in fact never in control at all… If we can’t trust man\, who can we trust? In this series\, we will seek to understand what exactly is happening in our world today\, and who we need to look to in order to make it through. \n 
URL:https://nbsdac.com/event/5284-2020-10-20/
ATTACH;FMTTYPE=image/png:https://nbsdac.com/wp-content/uploads/2020/10/LOVE-TRUMPS-FEAR-6.png
ORGANIZER;CN="New Brunswick English SDA Church":MAILTO:info@nbsdac.com
END:VEVENT
BEGIN:VEVENT
DTSTART;TZID=America/New_York:20201019T193000
DTEND;TZID=America/New_York:20201019T210000
DTSTAMP:20260423T173558
CREATED:20201017T180126Z
LAST-MODIFIED:20201017T180126Z
UID:5284-1603135800-1603141200@nbsdac.com
SUMMARY:Love Trumps Fear: A Webinar on How to Survive 2020
DESCRIPTION:Love Trumps Fear: A Webinar on How to Survive 2020\nIn a world that seems to be falling apart\, many of us are filled with fear as our health (mental and physical)\, finances\, relationships\, and peace of mind are being threatened. \nThe question in the midst of all of this is: Where do we go? Who do we look to for hope? With one fell swoop we have seen COVID-19 dismantle our governments\, our healthcare systems and the world as a whole. \nThose we thought were in control\, were in fact never in control at all… If we can’t trust man\, who can we trust? In this series\, we will seek to understand what exactly is happening in our world today\, and who we need to look to in order to make it through. \n 
URL:https://nbsdac.com/event/5284/
ATTACH;FMTTYPE=image/png:https://nbsdac.com/wp-content/uploads/2020/10/LOVE-TRUMPS-FEAR-6.png
ORGANIZER;CN="New Brunswick English SDA Church":MAILTO:info@nbsdac.com
END:VEVENT
BEGIN:VEVENT
DTSTART;TZID=America/New_York:20201010T190000
DTEND;TZID=America/New_York:20201010T210000
DTSTAMP:20260423T173558
CREATED:20201009T232125Z
LAST-MODIFIED:20201010T200959Z
UID:5263-1602356400-1602363600@nbsdac.com
SUMMARY:October Business Meeting
DESCRIPTION:New Brunswick English Seventh-day Adventist Church is inviting you to a scheduled Zoom meeting. \nTopic: October Church Business Meeting\nTime: Oct 10\, 2020 07:00 PM Eastern Time (US and Canada) \nJoin Zoom Meeting\nhttps://us02web.zoom.us/j/84375524750?pwd=L0RnS1hkN1NmUi9JQWphVS9zV04zQT09 \nMeeting ID: 843 7552 4750\nPasscode: 768746\nOne tap mobile\n+16699006833\,\,84375524750#\,\,\,\,\,\,0#\,\,768746# US (San Jose)\n+19292056099\,\,84375524750#\,\,\,\,\,\,0#\,\,768746# US (New York) \nDial by your location\n+1 669 900 6833 US (San Jose)\n+1 929 205 6099 US (New York)\n+1 253 215 8782 US (Tacoma)\n+1 301 715 8592 US (Germantown)\n+1 312 626 6799 US (Chicago)\n+1 346 248 7799 US (Houston)\nMeeting ID: 843 7552 4750\nPasscode: 768746\nFind your local number: https://us02web.zoom.us/u/kbZqzX7I3F \n 
URL:https://nbsdac.com/event/october-business-meeting/
CATEGORIES:Meetings
END:VEVENT
BEGIN:VEVENT
DTSTART;TZID=America/New_York:20200803T190000
DTEND;TZID=America/New_York:20200803T210000
DTSTAMP:20260423T173558
CREATED:20200801T172246Z
LAST-MODIFIED:20200803T230335Z
UID:5222-1596481200-1596488400@nbsdac.com
SUMMARY:Church Business Meeting
DESCRIPTION:New Brunswick English Seventh-day church members\,\nWe are cordially inviting you the upcoming business meeting to discuss some important pending matters of the church. To accomplish this goal\, please join the Zoom link below. \nPlease be aware\, that we will not let you in the meeting without presenting your first and last name on Zoom. This is for security purposes. Password will be provided 30 minutes before the meeting.\n \nNew Brunswick English Seventh-day Adventist Church is inviting you to a scheduled Zoom meeting. \nTopic: Church Business Meeting\nTime: Aug 3\, 2020 07:00 PM Eastern Time (US and Canada) \nJoin Zoom Meeting\nhttps://us02web.zoom.us/j/87524364035?pwd=RGxKL2w4Z2xSZm5DdUMyRlhLUDZOdz09 \nMeeting ID: 875 2436 4035\nPasscode: ZojUX14qvz\nOne tap mobile\n+13017158592\,\,87524364035#\,\,\,\,\,\,0#\,\,9262422361# US (Germantown)\n+13126266799\,\,87524364035#\,\,\,\,\,\,0#\,\,9262422361# US (Chicago) \nDial by your location\n+1 301 715 8592 US (Germantown)\n+1 312 626 6799 US (Chicago)\n+1 346 248 7799 US (Houston)\n+1 669 900 6833 US (San Jose)\n+1 929 205 6099 US (New York)\n+1 253 215 8782 US (Tacoma)\nMeeting ID: 875 2436 4035\nPasscode: 9262422361\nFind your local number: https://us02web.zoom.us/u/kkuTeOYdX
URL:https://nbsdac.com/event/church-business-meeting/
CATEGORIES:Meetings
ATTACH;FMTTYPE=image/jpeg:https://nbsdac.com/wp-content/uploads/2020/08/business-meeting-aug-2020.jpg
ORGANIZER;CN="New Brunswick English SDA Church":MAILTO:info@nbsdac.com
END:VEVENT
END:VCALENDAR